BEGIN:VCALENDAR
VERSION:2.0
PRODID:-//Pfarrei St. Laurentius Kleinostheim - ECPv6.4.0.1//NONSGML v1.0//EN
CALSCALE:GREGORIAN
METHOD:PUBLISH
X-ORIGINAL-URL:https://wordpress.sankt-laurentius-kleinostheim.de
X-WR-CALDESC:Veranstaltungen für Pfarrei St. Laurentius Kleinostheim
REFRESH-INTERVAL;VALUE=DURATION:PT1H
X-Robots-Tag:noindex
X-PUBLISHED-TTL:PT1H
BEGIN:VTIMEZONE
TZID:Europe/Berlin
BEGIN:DAYLIGHT
TZOFFSETFROM:+0100
TZOFFSETTO:+0200
TZNAME:CEST
DTSTART:20240331T010000
END:DAYLIGHT
BEGIN:STANDARD
TZOFFSETFROM:+0200
TZOFFSETTO:+0100
TZNAME:CET
DTSTART:20241027T010000
END:STANDARD
BEGIN:DAYLIGHT
TZOFFSETFROM:+0100
TZOFFSETTO:+0200
TZNAME:CEST
DTSTART:20250330T010000
END:DAYLIGHT
BEGIN:STANDARD
TZOFFSETFROM:+0200
TZOFFSETTO:+0100
TZNAME:CET
DTSTART:20251026T010000
END:STANDARD
END:VTIMEZONE
BEGIN:VEVENT
DTSTART;TZID=Europe/Berlin:20250406T100000
DTEND;TZID=Europe/Berlin:20250406T110000
DTSTAMP:20260423T073731
CREATED:20250224T103346Z
LAST-MODIFIED:20250224T105055Z
UID:10000101-1743933600-1743937200@wordpress.sankt-laurentius-kleinostheim.de
SUMMARY:Fastenpredigtreihe - "Was mir Hoffnung gibt"
DESCRIPTION:Was mir HOFFNUNG gibt \nZu diesem Thema predigen die katholischen Seelsorger*innen in der gemeindeverbindenden Fastenpredigtreihe 2025 in den Kirchen Kleinostheim\, Mainaschaff und Stockstadt. \nSonntag\, 6. April\, 10.00 Uhr: Simone Büttner \n  \n 
URL:https://wordpress.sankt-laurentius-kleinostheim.de/event/fastenpredigtreihe-was-mir-hoffnung-gibt-copy/
LOCATION:Pfarrkirche Maria Rosenkranzkönigin\, Stockstadt
ATTACH;FMTTYPE=image/jpeg:https://wordpress.sankt-laurentius-kleinostheim.de/wp-content/uploads/2025/02/Plakat_Fastenpredigt_2025jpg.jpg
END:VEVENT
BEGIN:VEVENT
DTSTART;TZID=Europe/Berlin:20250330T093000
DTEND;TZID=Europe/Berlin:20250330T103000
DTSTAMP:20260423T073731
CREATED:20250224T103815Z
LAST-MODIFIED:20250224T105855Z
UID:10000102-1743327000-1743330600@wordpress.sankt-laurentius-kleinostheim.de
SUMMARY:Fastenpredigtreihe - "Was mir Hoffnung gibt"
DESCRIPTION:Was mir HOFFNUNG gibt \nZu diesem Thema predigen die katholischen Seelsorger*innen in der gemeindeverbindenden Fastenpredigtreihe 2025 in den Kirchen Kleinostheim\, Mainaschaff und Stockstadt. \nSonntag\, 30. März\, 9.30 Uhr: Karin Farrenkopf-Párraga \n  \n 
URL:https://wordpress.sankt-laurentius-kleinostheim.de/event/fastenpredigtreihe-was-mir-hoffnung-gibt-copy-copy-2/
LOCATION:Pfarrei St. Laurentius Kleinostheim
ATTACH;FMTTYPE=image/jpeg:https://wordpress.sankt-laurentius-kleinostheim.de/wp-content/uploads/2025/02/Plakat_Fastenpredigt_2025jpg.jpg
END:VEVENT
BEGIN:VEVENT
DTSTART;TZID=Europe/Berlin:20250322T181500
DTEND;TZID=Europe/Berlin:20250322T191500
DTSTAMP:20260423T073731
CREATED:20250224T103659Z
LAST-MODIFIED:20250224T105802Z
UID:10000103-1742667300-1742670900@wordpress.sankt-laurentius-kleinostheim.de
SUMMARY:Fastenpredigtreihe - "Was mir Hoffnung gibt"
DESCRIPTION:Was mir HOFFNUNG gibt \nZu diesem Thema predigen die katholischen Seelsorger*innen in der gemeindeverbindenden Fastenpredigtreihe 2025 in den Kirchen Kleinostheim\, Mainaschaff und Stockstadt. \nSamstag\, 22. März\, 18.15 Uhr: Heribert Kaufmann \n  \n 
URL:https://wordpress.sankt-laurentius-kleinostheim.de/event/fastenpredigtreihe-was-mir-hoffnung-gibt-copy-copy/
LOCATION:Pfarrei St. Margareta\, Mainaschaff
ATTACH;FMTTYPE=image/jpeg:https://wordpress.sankt-laurentius-kleinostheim.de/wp-content/uploads/2025/02/Plakat_Fastenpredigt_2025jpg.jpg
END:VEVENT
BEGIN:VEVENT
DTSTART;TZID=Europe/Berlin:20250316T110000
DTEND;TZID=Europe/Berlin:20250316T120000
DTSTAMP:20260423T073731
CREATED:20250224T102647Z
LAST-MODIFIED:20250224T102647Z
UID:10000099-1742122800-1742126400@wordpress.sankt-laurentius-kleinostheim.de
SUMMARY:Kleinkindgottesdienst in St. Laurentius
DESCRIPTION:
URL:https://wordpress.sankt-laurentius-kleinostheim.de/event/kleinkindgottesdienst-in-st-laurentius-2/
LOCATION:Pfarrei St. Laurentius Kleinostheim
END:VEVENT
BEGIN:VEVENT
DTSTART;TZID=Europe/Berlin:20250315T180000
DTEND;TZID=Europe/Berlin:20250315T190000
DTSTAMP:20260423T073731
CREATED:20250224T103321Z
LAST-MODIFIED:20250224T105725Z
UID:10000100-1742061600-1742065200@wordpress.sankt-laurentius-kleinostheim.de
SUMMARY:Fastenpredigtreihe - "Was mir Hoffnung gibt"
DESCRIPTION:Was mir HOFFNUNG gibt \nZu diesem Thema predigen die katholischen Seelsorger*innen in der gemeindeverbindenden Fastenpredigtreihe 2025 in den Kirchen Kleinostheim\, Mainaschaff und Stockstadt. \nSamstag\, 15. März: Isabel Staps und Georg Klar \n  \n  \n  \n 
URL:https://wordpress.sankt-laurentius-kleinostheim.de/event/fastenpredigtreihe-was-mir-hoffnung-gibt/
LOCATION:Pfarrei St. Laurentius Kleinostheim
ATTACH;FMTTYPE=image/jpeg:https://wordpress.sankt-laurentius-kleinostheim.de/wp-content/uploads/2025/02/Plakat_Fastenpredigt_2025jpg.jpg
END:VEVENT
BEGIN:VEVENT
DTSTART;TZID=Europe/Berlin:20250315T080000
DTEND;TZID=Europe/Berlin:20250315T123000
DTSTAMP:20260423T073731
CREATED:20250224T102347Z
LAST-MODIFIED:20250224T102347Z
UID:10000098-1742025600-1742041800@wordpress.sankt-laurentius-kleinostheim.de
SUMMARY:Altpapiersammlung  der Ministranten und der KJG
DESCRIPTION:Die nächste Altpapiersammlung  findet am Samstag\, 15. März ab 8.00 Uhr   statt. \nBitte stellen Sie das Altpapier bereit. \nBitte merken Sie sich den nächsten Termin der Altpapiersammlung am 17. Mai vor.
URL:https://wordpress.sankt-laurentius-kleinostheim.de/event/altpapiersammlung-der-ministranten-und-der-kjg/
LOCATION:Pfarrei St. Laurentius Kleinostheim
END:VEVENT
BEGIN:VEVENT
DTSTART;TZID=Europe/Berlin:20250309T100000
DTEND;TZID=Europe/Berlin:20250309T113000
DTSTAMP:20260423T073731
CREATED:20250224T102217Z
LAST-MODIFIED:20250224T102217Z
UID:10000097-1741514400-1741519800@wordpress.sankt-laurentius-kleinostheim.de
SUMMARY:Familiengottesdienst in St. Laurentius
DESCRIPTION:“NEUE WEGE GEHEN” \nHerzliche Einladung zum Familiengottesdienst \nmitgestaltet vom Kindergarten und dem Kinderchor St. Laurentius! \n \n 
URL:https://wordpress.sankt-laurentius-kleinostheim.de/event/familiengottesdienst-in-st-laurentius/
LOCATION:Pfarrei St. Laurentius Kleinostheim
END:VEVENT
BEGIN:VEVENT
DTSTART;TZID=Europe/Berlin:20250308T183000
DTEND;TZID=Europe/Berlin:20250308T193000
DTSTAMP:20260423T073731
CREATED:20250224T103507Z
LAST-MODIFIED:20250224T105528Z
UID:10000104-1741458600-1741462200@wordpress.sankt-laurentius-kleinostheim.de
SUMMARY:Fastenpredigtreihe - "Was mir Hoffnung gibt"
DESCRIPTION:Was mir HOFFNUNG gibt \nZu diesem Thema predigen die katholischen Seelsorger*innen in der gemeindeverbindenden Fastenpredigtreihe 2025 in den Kirchen Kleinostheim\, Mainaschaff und Stockstadt. \nSamstag\, 8. März\, 18.30 Uhr: Sr. Isabel Westphalen \n  \n 
URL:https://wordpress.sankt-laurentius-kleinostheim.de/event/fastenpredigtreihe-was-mir-hoffnung-gibt-copy-2/
LOCATION:Pfarrkirche Maria Rosenkranzkönigin\, Stockstadt
ATTACH;FMTTYPE=image/jpeg:https://wordpress.sankt-laurentius-kleinostheim.de/wp-content/uploads/2025/02/Plakat_Fastenpredigt_2025jpg.jpg
END:VEVENT
BEGIN:VEVENT
DTSTART;TZID=Europe/Berlin:20250302T190000
DTEND;TZID=Europe/Berlin:20250302T210000
DTSTAMP:20260423T073731
CREATED:20250224T100828Z
LAST-MODIFIED:20250224T100848Z
UID:10000094-1740942000-1740949200@wordpress.sankt-laurentius-kleinostheim.de
SUMMARY:Hausgottesdienst für den 8. Sonntag im Jahreskreis
DESCRIPTION:Für den 2. März finden Sie hier das Hausgebet: Hausgebet-8.-So-JK_C
URL:https://wordpress.sankt-laurentius-kleinostheim.de/event/hausgottesdienste-fuer-den-8-sonntag-im-jahreskreis/
END:VEVENT
BEGIN:VEVENT
DTSTART;TZID=Europe/Berlin:20250302T113000
DTEND;TZID=Europe/Berlin:20250302T170000
DTSTAMP:20260423T073732
CREATED:20250224T101854Z
LAST-MODIFIED:20250228T085915Z
UID:10000096-1740915000-1740934800@wordpress.sankt-laurentius-kleinostheim.de
SUMMARY:Gottesdienste zuhause für Familien mit Kinder  für den 8. Sonntag im Jahreskreis
DESCRIPTION:Ein Gottesdienst für Zuhause C_8.So.JK_FaGoDi_-_Ablauf_-_final \nViel Spaß beim Vorbereiten und Feiern!
URL:https://wordpress.sankt-laurentius-kleinostheim.de/event/gottesdienste-zuhause-fuer-familien-mit-kinder-fuer-den-8-sonntag-im-jahreskreis/
END:VEVENT
BEGIN:VEVENT
DTSTART;TZID=Europe/Berlin:20250302T103000
DTEND;TZID=Europe/Berlin:20250302T113000
DTSTAMP:20260423T073732
CREATED:20250224T101546Z
LAST-MODIFIED:20250224T101546Z
UID:10000095-1740911400-1740915000@wordpress.sankt-laurentius-kleinostheim.de
SUMMARY:Gelobtes Gebet
DESCRIPTION:Miteinander beten\nFüreinander Beten \nHerzliche Einladung zum Friedensgebet\nin St. Laurentius\, Kleinostheim \nWir wollen uns und die Menschen Gott anvertrauen und von ihm Schutz und Segen erbitten.
URL:https://wordpress.sankt-laurentius-kleinostheim.de/event/gelobtes-gebet/
LOCATION:Pfarrei St. Laurentius Kleinostheim
ATTACH;FMTTYPE=image/jpeg:https://wordpress.sankt-laurentius-kleinostheim.de/wp-content/uploads/2025/02/Plakat_2025_Canva_gelobtes_Gebet.jpg
END:VEVENT
BEGIN:VEVENT
DTSTART;TZID=Europe/Berlin:20250226T200000
DTEND;TZID=Europe/Berlin:20250226T213000
DTSTAMP:20260423T073732
CREATED:20250224T102530Z
LAST-MODIFIED:20250224T100512Z
UID:10000087-1740600000-1740605400@wordpress.sankt-laurentius-kleinostheim.de
SUMMARY:Offener Bibelabend mit Pfarrer Heribert Kaufmann
DESCRIPTION:Am Mittwoch\, 26. Februar\, 20.00 Uhr findet dieser unter dem Thema “Wovon das Herz überfließt“ (Lk 6\, 39-45) im Pfarrhaus statt. \nBitte bringen Sie eine Bibel mit.
URL:https://wordpress.sankt-laurentius-kleinostheim.de/event/offener-bibelabend-mit-pfarrer-heribert-kaufmann/
END:VEVENT
BEGIN:VEVENT
DTSTART;TZID=Europe/Berlin:20250224T080000
DTEND;TZID=Europe/Berlin:20250227T170000
DTSTAMP:20260423T073732
CREATED:20250224T100247Z
LAST-MODIFIED:20250228T085628Z
UID:10000093-1740384000-1740675600@wordpress.sankt-laurentius-kleinostheim.de
SUMMARY:Exerzitien im Alltag in der Zeit vor Ostern
DESCRIPTION:Wenn ich „Exerzitien“ sage\, meine ich … \n\neine Auszeit\, um Gott in mir und meinem Leben zu entdecken\,\nein Zeitfenster aufmachen\, um Sinnsucher zu sein\,\neine geschenkte Zeit\, um neu und wieder durchzuatmen\,\neine Leerzeit\, die Gott füllen kann\,\neine Intensivzeit zum Kraftanken mit Gott und anderen…\n\nEine Form zur Vertiefung unseres Lebens und Glaubens sind „Exerzitien im Alltag“. Viele haben sich schon in den letzten Jahren während der Fastenzeit mit Gewinn auf diesen Weg eingelassen und ihn bereichernd erlebt. Dieser geistliche Übungsweg leben von zwei Säulen\, die sich gegenseitig ergänzen und befruchten. Über mehrere Wochen nehmen sich die Teilnehmenden täglich eine Zeit zu Besinnung und Gebet anhand von Impulsen. Einmal pro Woche treffen sie sich dann zum Austausch mit anderen in einer Gruppe. \nDie wöchentlichen Treffen finden in einer Vormittags- oder einer Abendgruppe – beginnend am 13. März – jeweils donnerstags um 9 Uhr und um 20 Uhr im Haus St. Vinzenz von Paul statt. . \nEine verbindliche Anmeldung für eine der beiden Gruppen ist bis Mittwoch\, 26. Februar im Pfarrhaus (Tel. 46120) erforderlich. Wer nicht an den Treffen teilnehmen und doch die Unterlagen für einen persönlichen Exerzitienweg zuhause erhalten möchte\, soll sich auch anmelden. \nDas erste Treffen mit der Einführung in den geistlichen Weg und der Verteilung der einführenden Materialien findet für alle Teilnehmenden aus beiden Gruppen am Aschermittwoch\, 5. März\, nach dem Abendgottesdienst um ca. 20 Uhr im Haus St. Vinzenz von Paul statt. \nSie können im Gespräch mit mir weitere Informationen erhalten. \nIch freue mich auf einen gemeinsamen\, intensiven Weg\, der unserem Leben und Glauben Tiefe schenkt\, und auf alle\, die sich erstmals oder wieder darauf einlassen. \n  \nHeribert Kaufmann
URL:https://wordpress.sankt-laurentius-kleinostheim.de/event/exerzitien-im-alltag-in-der-zeit-vor-ostern/
END:VEVENT
BEGIN:VEVENT
DTSTART;TZID=Europe/Berlin:20240526T080000
DTEND;TZID=Europe/Berlin:20240526T170000
DTSTAMP:20260423T073732
CREATED:20240422T061822Z
LAST-MODIFIED:20240422T062121Z
UID:10000082-1716710400-1716742800@wordpress.sankt-laurentius-kleinostheim.de
SUMMARY:Einladung zu unseren Maiandachten in St. Laurentius
DESCRIPTION:
URL:https://wordpress.sankt-laurentius-kleinostheim.de/event/einladung-zu-unseren-maiandachten-in-st-laurentius/
LOCATION:Pfarrei St. Laurentius Kleinostheim
END:VEVENT
BEGIN:VEVENT
DTSTART;TZID=Europe/Berlin:20240520T100000
DTEND;TZID=Europe/Berlin:20240520T120000
DTSTAMP:20260423T073733
CREATED:20240503T102100Z
LAST-MODIFIED:20240503T102256Z
UID:10000086-1716199200-1716206400@wordpress.sankt-laurentius-kleinostheim.de
SUMMARY:Gemeinsamer Aufbruchgottesdienst an Pfingstmontag der Gemeinden Stockstadt\, Kleinostheim und Mainaschaff
DESCRIPTION:
URL:https://wordpress.sankt-laurentius-kleinostheim.de/event/gemeinsamer-aufbruchgottesdienst-an-pfingstmontag-der-gemeinden-stockstadt-kleinostheim-und-mainaschaff/
END:VEVENT
BEGIN:VEVENT
DTSTART;TZID=Europe/Berlin:20240505T080000
DTEND;TZID=Europe/Berlin:20240505T170000
DTSTAMP:20260423T073733
CREATED:20240422T062006Z
LAST-MODIFIED:20240422T062006Z
UID:10000083-1714896000-1714928400@wordpress.sankt-laurentius-kleinostheim.de
SUMMARY:Kleinkindgottesdienst in St. Laurentius
DESCRIPTION:
URL:https://wordpress.sankt-laurentius-kleinostheim.de/event/kleinkindgottesdienst-in-st-laurentius/
END:VEVENT
BEGIN:VEVENT
DTSTART;VALUE=DATE:20240505
DTEND;VALUE=DATE:20240506
DTSTAMP:20260423T073733
CREATED:20240503T101751Z
LAST-MODIFIED:20240503T101751Z
UID:10000085-1714867200-1714953599@wordpress.sankt-laurentius-kleinostheim.de
SUMMARY:Vorlagen Hausgottesdienste für den 6. Sonntag der Osterzeit
DESCRIPTION:Download  \nHausgebet_6.-Sonntag-Osterzeit-B \nViel Spaß beim Vorbereiten und Feiern!
URL:https://wordpress.sankt-laurentius-kleinostheim.de/event/vorlagen-hausgottesdienste-fuer-den-6-sonntag-der-osterzeit/
END:VEVENT
BEGIN:VEVENT
DTSTART;VALUE=DATE:20240505
DTEND;VALUE=DATE:20240506
DTSTAMP:20260423T073733
CREATED:20240503T101428Z
LAST-MODIFIED:20240503T101428Z
UID:10000084-1714867200-1714953599@wordpress.sankt-laurentius-kleinostheim.de
SUMMARY:Vorlagen für Gottesdienste zuhause für Familien mit Kindern zum 6. Sonntag der Osterzeit
DESCRIPTION:Download  \n6._Sonntag_der_Osterzeit_B_Liebet_einander \nViel Spaß beim Vorbereiten und Feiern!
URL:https://wordpress.sankt-laurentius-kleinostheim.de/event/vorlagen-fuer-gottesdienste-zuhause-fuer-familien-mit-kindern-zum-6-sonntag-der-osterzeit/
END:VEVENT
END:VCALENDAR